Workbook
Name vlastnosti: Vlastnosti!$X$3:$X$5
Name volitelne_udaje: Volitelne_udaje!$K$23:$K$25

Sheet Udaje_o_zadateli
A4: Žádost o nastavení vlastností ÚÚP v ISÚI/RÚIAN
A6: Žádost slouží editorům účelových územních prvků (ÚÚP) k předání základních informací a požadavků na nastavení vlastností a atributů pro konkrétní typ ÚÚP v RÚIAN. Žádost o nastavení musí být v souladu s legislativou, kterou je prvek do RÚIAN zaveden.
A9: Vyplněnou žádost a tabulky je potřeba zaslat datovou schránkou na ČÚZK1 (ID DS: uuaaatg).
A11: Žadatel
A13: Název organizace: | B13: Ministerstvo životního prostředí
A16: IČO: | B16: 00124578 | E16: ID DS:
A18: Sídlo organizace:
A20: Kontaktní osoba:
A22: E-mail: | F22: Tel.:
A24: Právní předpis, na základě kterého dochází k zavedení:
A26: Žádost pro: | B26: 0 | E26: 2
A28: Kód agendy a činnostní role2:
A30: Číslo certifikátu: | E30: Kód AIS:
A34: V(e): | E34: Dne: | F34: =TODAY() -> 46301
A36: Za žadatele:
C41: (digitální podpis)
A43: 1 Pro nastavení požadavků na testovací prostředí je možné zaslat žádost i neformální cestou, např. e-mailem.
A44: 2 U žádosti pro testovací prostředí není nutné vyplňovat.

Sheet Typy_UUP
A1: Typy účelových územních prvků
A2: Název ÚÚP | B2: Zkrácený název (do 50 znaků) | C2: Popis | D2: Začátek platnosti
A3: Vzorový účelový územní prvek | B3: VÚÚP | C3: Vzorový účelový územní prvek | D3: 44197

Sheet Volitelne_udaje
B1: Volitelné údaje
A2: Název ÚÚP | B2: Číslo 1 | C2: Datum vzniku 2 | D2: Způsob vymezení 3* | E2: Typ nerostu | F2: Plocha | G2: Skupina nerostů 4* | H2: Vyhlašovací dokumentace | I2: Typ zdroje | J2: IČO pořizovatele | K2: Důvod kategorizace
A3: =IF(Typy_UUP!A3="","",Typy_UUP!A3) -> Vzorový účelový územní prvek | B3: povinný | C3: povinný | D3: zakázaný | E3: zakázaný | F3: nepovinný | G3: zakázaný | H3: povinný | I3: nepovinný | J3: zakázaný | K3: povinný
A4: =IF(Typy_UUP!A4="","",Typy_UUP!A4)
A5: =IF(Typy_UUP!A5="","",Typy_UUP!A5)
A6: =IF(Typy_UUP!A6="","",Typy_UUP!A6)
A7: =IF(Typy_UUP!A7="","",Typy_UUP!A7)
A8: =IF(Typy_UUP!A8="","",Typy_UUP!A8)
A9: =IF(Typy_UUP!A9="","",Typy_UUP!A9)
A10: =IF(Typy_UUP!A10="","",Typy_UUP!A10)
A11: =IF(Typy_UUP!A11="","",Typy_UUP!A11)
A12: =IF(Typy_UUP!A12="","",Typy_UUP!A12)
A13: =IF(Typy_UUP!A17="","",Typy_UUP!A17)
A15: Vybrané údaje, které je možné u ÚÚP vést, nemusí být použitelné pro všechny ÚÚP, proto je u nich potřeba předem nastavit, zda má být jejich zasílání pro konkrétní ÚÚP zakázané, povolené (atribut je nepovinný), nebo povinné. U každého údaje označte právě jednu z možností.
A17: 1 Atribut Číslo obsahuje označení konkrétního prvku, jedná se o referenční údaj, jehož vedení by mělo být ukotveno v legislativě. Může být použitý jako součást generovaného URL odkazu na prvek a nemusí být jedinečný.
A19: 2 Datum vzniku je např. datum nabytí právní moci rozhodnutí o vzniku daného prvku. NEJEDNÁ se o datum zápisu prvku do RÚIAN.
A21: 3 Způsob vymezení je zadáván kódem z číselníku. Každá číselníková hodnota má zadanou přesnost v mm, která se bere v potaz v případě použití vlastnosti Potvrzování vazeb editorem.
A23: 4 Skupina nerostů je zadávána kódem z číselníku. Atribut je možné povolit jako násobný, což umožní zadat více různých hodnot | K23: zakázaný
A24: pro jeden prvek. | K24: nepovinný
K25: povinný
A26: * V případě, že požadujete některé z těchto údajů, je nutné doplnit rozsah hodnot do příslušných číselníků.

Sheet Vlastnosti
B1: Vlastnosti ÚÚP
A2: Název ÚÚP | B2: Vazby na parcely 1 | C2: Vazby na stavební objekty 2 | D2: Vazby na adresní místa 3 | E2: Generování URL odkazu (zadejte konkrétní podobu odkazu) 4 | F2: Zakázaný překryv s ÚÚP (vypište požadované typy ÚÚP zkráceným názvem) 5 | G2: Zanedbatelný buffer pro vytváření vazeb (větší než 396 mm) 6 | H2: Potvrzování vazeb editorem | I2: Buffer pro potvrzování vazeb (mm) 7 | J2: Potvrzování vazeb bodových ÚÚP 8
A3: =IF(Typy_UUP!A3="","",Typy_UUP!A3) -> Vzorový účelový územní prvek | B3: ano | C3: ano | D3: ne | E3: www.url.cz/#KOD# | H3: ano | J3: ne
A4: =IF(Typy_UUP!A4="","",Typy_UUP!A4)
A5: =IF(Typy_UUP!A5="","",Typy_UUP!A5)
A6: =IF(Typy_UUP!A6="","",Typy_UUP!A6)
A7: =IF(Typy_UUP!A7="","",Typy_UUP!A7)
A8: =IF(Typy_UUP!A8="","",Typy_UUP!A8)
A9: =IF(Typy_UUP!A9="","",Typy_UUP!A9)
A10: =IF(Typy_UUP!A10="","",Typy_UUP!A10)
A11: =IF(Typy_UUP!A11="","",Typy_UUP!A11)
A12: =IF(Typy_UUP!A12="","",Typy_UUP!A12)
A13: =IF(Typy_UUP!A13="","",Typy_UUP!A13)
A14: =IF(Typy_UUP!A14="","",Typy_UUP!A14)
A15: =IF(Typy_UUP!A17="","",Typy_UUP!A17)
A16: =IF(Typy_UUP!A18="","",Typy_UUP!A18)
A17: =IF(Typy_UUP!A19="","",Typy_UUP!A19)
A18: =IF(Typy_UUP!A20="","",Typy_UUP!A20)
A19: =IF(Typy_UUP!A25="","",Typy_UUP!A25)
A20: =IF(Typy_UUP!A26="","",Typy_UUP!A26)
A21: =IF(Typy_UUP!A28="","",Typy_UUP!A28)
A23: 1 Automatické vytváření vazeb ÚÚP na všechny parcely, které účelový prvek zasáhne.
A24: 2 Automatické vytváření vazeb ÚÚP na všechny stavební objekty, které do účelového prvku spadají.
A25: 3 Automatické vytváření vazeb ÚÚP na všechna adresní místa, která do účelového prvku spadají.
A26: 4 Možnost generovat URL odkaz do externího systému určený obsažením externího ID nebo čísla prvku. Použijte řetězec #KOD# pro nahrazení externím ID nebo řetězec #CISLO# pro nahrazení číslem, např. při zadání www.url.cz/#KOD# bude pro prvek s externím ID 254 vygenerováno URL www.url.cz/254.
A27: 5 Při volbě této možnosti bude při zadávání nebo změně ÚÚP kontrolováno, zda nezasahuje do zvoleného typu ÚÚP. Je možné
A28: kontrolovat i překryv sám na sebe, aby nebylo možné zadávat v rámci jednoho typu překrývající se prvky.
A29: 6 Velikost (v mm) vnitřního bufferu z vymezení ÚÚP - na prvky, které se s ÚÚP překrývají jen v tomto bufferu, nebude vytvořena platná
A30: vazba na prvek ÚÚP.
A31: 7 Z plošného vymezení ÚÚP bude vytvořen vnitřní buffer a na prvky (parcely/stavební objekty/adresní místa) v tomto bufferu
A32: bude vytvořena platná vazba až po potvrzení editorem. Velikost bufferu je určena zadanou konstantou nebo pro každý ÚÚP
A33: samostatně podle parametru způsob vymezení. Hodnota konstanty (nebo způsobu vymezení) by měla vždy být větší, než
A34: velikost zanedbatelného bufferu.
... A37: parametru způsob vymezení.

Sheet Ciselniky
A1: ZPŮSOB VYMEZENÍ ÚÚP
A2: Název | B2: Zkrácený název | C2: Popis | D2: Začátek platnosti | E2: Přesnost (mm)
A19: SKUPINA NEROSTŮ
A20: Název | B20: Zkrácený název | C20: Popis | D20: Začátek platnosti
A34: DŮVOD KATEGORIZACE
A35: Název | B35: Zkrácený název | C35: Popis | D35: Začátek platnosti
A50: TYP ZDROJE
A51: Název | B51: Zkrácený název | C51: Popis | D51: Začátek platnosti
A65: Jeden typ ÚÚP je možné dělit na tzv. subtypy. U subtypů jednoho typu ÚÚP nelze nastavovat rozdílné vlastnosti. Použití může být např. pro vymezení zón národních parků. Pokud vyžadujete pro ÚÚP vést rozdělení na subtypy, je potřeba je zavést do číselníku.
A68: SUBTYP ÚÚP
A69: Název | B69: Zkrácený název | C69: Popis | D69: Začátek platnosti | E69: Typ ÚÚP (zkrácený název)
A81: Pozn.: Pro použití hodnot z číselníků při editaci ÚÚP je nutné, aby zadané začátky platnosti předcházely editaci (i v rámci přípravy a kontroly dat).
